BEGIN:VCALENDAR
VERSION:2.0
PRODID:icalendar-ruby
CALSCALE:GREGORIAN
METHOD:PUBLISH
BEGIN:VEVENT
DTSTAMP:20260420T181210Z
UID:85-946627@centralbaptistchurch.com
DTSTART:20260913T143000Z
DTEND:20260913T153000Z
CLASS:PUBLIC
CREATED:20260420T114514
DESCRIPTION:
LAST-MODIFIED:20260420T114514
LOCATION:
SUMMARY:Central Baptist Church
URL;VALUE=URI:https://www.centralbaptistchurch.com/events/central-baptist-c
 hurch/2026-09-13
ATTACH;FILENAME=Central Baptist Worship 20260210.jpg;FMTTYPE=image/jpeg:htt
 ps://dq5pwpg1q8ru0.cloudfront.net/2026/02/10/20/34/19/e45cf79d-d53d-4f89-b
 5b3-71d5a81079b2/Central%20Baptist%20Worship%2020260210.jpg
END:VEVENT
END:VCALENDAR
