BEGIN:VCALENDAR
VERSION:2.0
PRODID:icalendar-ruby
CALSCALE:GREGORIAN
METHOD:PUBLISH
BEGIN:VEVENT
DTSTAMP:20260421T053358Z
UID:85-947012@centralbaptistchurch.com
DTSTART:20261101T153000Z
DTEND:20261101T163000Z
CLASS:PUBLIC
CREATED:20260420T193046
DESCRIPTION:
LAST-MODIFIED:20260420T193046
LOCATION:
SUMMARY:Central Baptist Church
URL;VALUE=URI:https://www.centralbaptistchurch.com/events/central-baptist-c
 hurch/2026-11-01
ATTACH;FILENAME=Central Baptist Worship 20260210.jpg;FMTTYPE=image/jpeg:htt
 ps://dq5pwpg1q8ru0.cloudfront.net/2026/02/10/20/34/19/e45cf79d-d53d-4f89-b
 5b3-71d5a81079b2/Central%20Baptist%20Worship%2020260210.jpg
END:VEVENT
END:VCALENDAR
