BEGIN:VCALENDAR
VERSION:2.0
PRODID:icalendar-ruby
CALSCALE:GREGORIAN
METHOD:PUBLISH
BEGIN:VEVENT
DTSTAMP:20260422T092919Z
UID:86-947801@centralbaptistchurch.com
DTSTART:20260927T160000Z
DTEND:20260927T170000Z
CLASS:PUBLIC
CREATED:20260421T194455
DESCRIPTION:
LAST-MODIFIED:20260421T194455
LOCATION:
SUMMARY:Second Story Church
URL;VALUE=URI:https://www.centralbaptistchurch.com/events/second-story-chur
 ch/2026-09-27
ATTACH;FILENAME=Second Story Worship 20260210.jpg;FMTTYPE=image/jpeg:https:
 //dq5pwpg1q8ru0.cloudfront.net/2026/02/10/20/35/42/2529ebee-6679-47ab-baac
 -1b459105488e/Second%20Story%20Worship%2020260210.jpg
END:VEVENT
END:VCALENDAR
