BEGIN:VCALENDAR
VERSION:2.0
PRODID:icalendar-ruby
CALSCALE:GREGORIAN
METHOD:PUBLISH
BEGIN:VEVENT
DTSTAMP:20260422T164752Z
UID:86-948058@centralbaptistchurch.com
DTSTART:20261101T170000Z
DTEND:20261101T180000Z
CLASS:PUBLIC
CREATED:20260422T094312
DESCRIPTION:
LAST-MODIFIED:20260422T094312
LOCATION:
SUMMARY:Second Story Church
URL;VALUE=URI:https://www.centralbaptistchurch.com/events/second-story-chur
 ch/2026-11-01
ATTACH;FILENAME=Second Story Worship 20260210.jpg;FMTTYPE=image/jpeg:https:
 //dq5pwpg1q8ru0.cloudfront.net/2026/02/10/20/35/42/2529ebee-6679-47ab-baac
 -1b459105488e/Second%20Story%20Worship%2020260210.jpg
END:VEVENT
END:VCALENDAR
